BEGIN:VCALENDAR
VERSION:2.0
PRODID:-//www.alderhealth.org//NONSGML kigkonsult.se iCalcreator 2.30.10//
CALSCALE:GREGORIAN
METHOD:PUBLISH
UID:fae5e80d-5072-4374-bb13-701616d0c9e7
X-WR-CALDESC:
X-WR-RELCALID:d9d84afc46e2e6ccb99b167bd7e555d2
X-WR-TIMEZONE:America/New_York
BEGIN:VTIMEZONE
TZID:America/New_York
BEGIN:STANDARD
TZNAME:EST
DTSTART:20191103T020000
TZOFFSETFROM:-0400
TZOFFSETTO:-0500
RDATE:20201101T020000
RDATE:20211107T020000
END:STANDARD
BEGIN:DAYLIGHT
TZNAME:EDT
DTSTART:20200308T020000
TZOFFSETFROM:-0500
TZOFFSETTO:-0400
RDATE:20210314T020000
END:DAYLIGHT
END:VTIMEZONE
BEGIN:VEVENT
UID:289684ad-7d3a-40e7-9f47-1cc83e8b9a84
DTSTAMP:20260420T233649Z
DESCRIPTION:
DTSTART;TZID=America/New_York:20200529T120000
DTEND;TZID=America/New_York:20200529T170000
LOCATION:
SUMMARY:Office Closed at NOON
END:VEVENT
END:VCALENDAR
