BEGIN:VCALENDAR
VERSION:2.0
PRODID:-//www.alderhealth.org//NONSGML kigkonsult.se iCalcreator 2.30.10//
CALSCALE:GREGORIAN
METHOD:PUBLISH
UID:d673d0e2-849b-40af-a56d-f4c49e6a7fbe
X-WR-CALDESC:
X-WR-RELCALID:4da412f3f07b2759f2e36317bd3308da
X-WR-TIMEZONE:America/New_York
BEGIN:VTIMEZONE
TZID:America/New_York
BEGIN:STANDARD
TZNAME:EST
DTSTART:20191103T020000
TZOFFSETFROM:-0400
TZOFFSETTO:-0500
RDATE:20201101T020000
RDATE:20211107T020000
END:STANDARD
BEGIN:DAYLIGHT
TZNAME:EDT
DTSTART:20200308T020000
TZOFFSETFROM:-0500
TZOFFSETTO:-0400
RDATE:20210314T020000
END:DAYLIGHT
END:VTIMEZONE
BEGIN:VEVENT
UID:575f210c-0b24-4231-8d66-fa47e15159a8
DTSTAMP:20260420T215922Z
DESCRIPTION:
DTSTART;TZID=America/New_York:20200619T120000
DTEND;TZID=America/New_York:20200619T170000
LOCATION:
SUMMARY:Office Closed at NOON
END:VEVENT
END:VCALENDAR
