BEGIN:VCALENDAR
VERSION:2.0
PRODID:-//www.alderhealth.org//NONSGML kigkonsult.se iCalcreator 2.30.10//
CALSCALE:GREGORIAN
METHOD:PUBLISH
UID:5b0f35b7-b05e-43aa-bd40-92c014e77431
X-WR-CALDESC:
X-WR-RELCALID:cb97ef1970a5318d18ea6a8924a962f5
X-WR-TIMEZONE:America/New_York
BEGIN:VTIMEZONE
TZID:America/New_York
BEGIN:STANDARD
TZNAME:EST
DTSTART:20191103T020000
TZOFFSETFROM:-0400
TZOFFSETTO:-0500
RDATE:20201101T020000
RDATE:20211107T020000
END:STANDARD
BEGIN:DAYLIGHT
TZNAME:EDT
DTSTART:20200308T020000
TZOFFSETFROM:-0500
TZOFFSETTO:-0400
RDATE:20210314T020000
END:DAYLIGHT
END:VTIMEZONE
BEGIN:VEVENT
UID:e0491aab-5c69-4821-9d8a-338bbd5675de
DTSTAMP:20260420T215759Z
DESCRIPTION:
DTSTART;TZID=America/New_York:20200626T120000
DTEND;TZID=America/New_York:20200626T170000
LOCATION:
SUMMARY:Office Closed at NOON
END:VEVENT
END:VCALENDAR
