BEGIN:VCALENDAR
VERSION:2.0
PRODID:-//www.alderhealth.org//NONSGML kigkonsult.se iCalcreator 2.30.10//
CALSCALE:GREGORIAN
METHOD:PUBLISH
UID:20fd2220-0341-4b0c-8c45-bf12d10a2117
X-WR-CALDESC:
X-WR-RELCALID:e22c7f16782954f80230ab0ae403ce30
X-WR-TIMEZONE:America/New_York
BEGIN:VTIMEZONE
TZID:America/New_York
BEGIN:STANDARD
TZNAME:EST
DTSTART:20191103T020000
TZOFFSETFROM:-0400
TZOFFSETTO:-0500
RDATE:20201101T020000
RDATE:20211107T020000
END:STANDARD
BEGIN:DAYLIGHT
TZNAME:EDT
DTSTART:20200308T020000
TZOFFSETFROM:-0500
TZOFFSETTO:-0400
RDATE:20210314T020000
END:DAYLIGHT
END:VTIMEZONE
BEGIN:VEVENT
UID:b266c0d8-f824-476a-a7b0-de3b60d67351
DTSTAMP:20260420T202401Z
DESCRIPTION:
DTSTART;TZID=America/New_York:20200703T120000
DTEND;TZID=America/New_York:20200703T170000
LOCATION:
SUMMARY:Office Closed at NOON
END:VEVENT
END:VCALENDAR
