BEGIN:VCALENDAR
VERSION:2.0
PRODID:-//www.alderhealth.org//NONSGML kigkonsult.se iCalcreator 2.30.10//
CALSCALE:GREGORIAN
METHOD:PUBLISH
UID:4827af02-a77b-4e6f-af0b-48cc31b4b4bd
X-WR-CALDESC:
X-WR-RELCALID:ba3e6e090f4f64b98c64c00be2dbffc6
X-WR-TIMEZONE:America/New_York
BEGIN:VTIMEZONE
TZID:America/New_York
BEGIN:STANDARD
TZNAME:EST
DTSTART:20191103T020000
TZOFFSETFROM:-0400
TZOFFSETTO:-0500
RDATE:20201101T020000
RDATE:20211107T020000
END:STANDARD
BEGIN:DAYLIGHT
TZNAME:EDT
DTSTART:20200308T020000
TZOFFSETFROM:-0500
TZOFFSETTO:-0400
RDATE:20210314T020000
END:DAYLIGHT
END:VTIMEZONE
BEGIN:VEVENT
UID:ad01a324-2b8a-423d-8d1f-b7533eaaedaf
DTSTAMP:20260420T202230Z
DESCRIPTION:
DTSTART;TZID=America/New_York:20200703T000000
DTEND;TZID=America/New_York:20200706T235900
LOCATION:
SUMMARY:Closed- Independence Day (observance)
END:VEVENT
END:VCALENDAR
