BEGIN:VCALENDAR
VERSION:2.0
PRODID:-//www.alderhealth.org//NONSGML kigkonsult.se iCalcreator 2.30.10//
CALSCALE:GREGORIAN
METHOD:PUBLISH
UID:b181c6a4-4f66-4134-85c5-c295a07dcec4
X-WR-CALDESC:
X-WR-RELCALID:5a086efc90730127144cb46abe54a070
X-WR-TIMEZONE:America/New_York
BEGIN:VTIMEZONE
TZID:America/New_York
BEGIN:STANDARD
TZNAME:EST
DTSTART:20191103T020000
TZOFFSETFROM:-0400
TZOFFSETTO:-0500
RDATE:20201101T020000
RDATE:20211107T020000
END:STANDARD
BEGIN:DAYLIGHT
TZNAME:EDT
DTSTART:20200308T020000
TZOFFSETFROM:-0500
TZOFFSETTO:-0400
RDATE:20210314T020000
END:DAYLIGHT
END:VTIMEZONE
BEGIN:VEVENT
UID:c61d5be1-9661-4811-86dc-37afefd7e800
DTSTAMP:20260420T202356Z
DESCRIPTION:
DTSTART;TZID=America/New_York:20200710T120000
DTEND;TZID=America/New_York:20200710T170000
LOCATION:
SUMMARY:Office Closed at NOON
END:VEVENT
END:VCALENDAR
