BEGIN:VCALENDAR
VERSION:2.0
PRODID:-//www.alderhealth.org//NONSGML kigkonsult.se iCalcreator 2.30.10//
CALSCALE:GREGORIAN
METHOD:PUBLISH
UID:6c7c6d62-f73e-42ef-a492-13bcb8148a6a
X-WR-CALDESC:
X-WR-RELCALID:a84f0e6001d0fca5e106df60eb9f0002
X-WR-TIMEZONE:America/New_York
BEGIN:VTIMEZONE
TZID:America/New_York
BEGIN:STANDARD
TZNAME:EST
DTSTART:20191103T020000
TZOFFSETFROM:-0400
TZOFFSETTO:-0500
RDATE:20201101T020000
RDATE:20211107T020000
END:STANDARD
BEGIN:DAYLIGHT
TZNAME:EDT
DTSTART:20200308T020000
TZOFFSETFROM:-0500
TZOFFSETTO:-0400
RDATE:20210314T020000
END:DAYLIGHT
END:VTIMEZONE
BEGIN:VEVENT
UID:7bb1fdd5-b572-495b-99be-16fae27440d5
DTSTAMP:20260420T202031Z
DESCRIPTION:
DTSTART;TZID=America/New_York:20200717T000000
DTEND;TZID=America/New_York:20200717T235900
LOCATION:
SUMMARY:Office is CLOSED today
END:VEVENT
END:VCALENDAR
