BEGIN:VCALENDAR
VERSION:2.0
PRODID:-//www.alderhealth.org//NONSGML kigkonsult.se iCalcreator 2.30.10//
CALSCALE:GREGORIAN
METHOD:PUBLISH
UID:fc6e43ca-0be6-45c5-ba56-a353d784564d
X-WR-CALDESC:
X-WR-RELCALID:f9b29a28814723491006dc6fd5318373
X-WR-TIMEZONE:America/New_York
BEGIN:VTIMEZONE
TZID:America/New_York
BEGIN:STANDARD
TZNAME:EST
DTSTART:20191103T020000
TZOFFSETFROM:-0400
TZOFFSETTO:-0500
RDATE:20201101T020000
RDATE:20211107T020000
END:STANDARD
BEGIN:DAYLIGHT
TZNAME:EDT
DTSTART:20200308T020000
TZOFFSETFROM:-0500
TZOFFSETTO:-0400
RDATE:20210314T020000
END:DAYLIGHT
END:VTIMEZONE
BEGIN:VEVENT
UID:39d979bd-d937-456b-a982-26d744fb02a3
DTSTAMP:20260420T173816Z
DESCRIPTION:
DTSTART;TZID=America/New_York:20200904T000000
DTEND;TZID=America/New_York:20200907T235900
LOCATION:
SUMMARY:Closed- Labor Day
END:VEVENT
END:VCALENDAR
