BEGIN:VCALENDAR
VERSION:2.0
PRODID:-//www.alderhealth.org//NONSGML kigkonsult.se iCalcreator 2.30.10//
CALSCALE:GREGORIAN
METHOD:PUBLISH
UID:834e62e9-fffb-4dd5-95f1-2e0021a596b4
X-WR-CALDESC:
X-WR-RELCALID:01e27302ec12b0073bf517edd87a249f
X-WR-TIMEZONE:America/New_York
BEGIN:VTIMEZONE
TZID:America/New_York
BEGIN:STANDARD
TZNAME:EST
DTSTART:20201101T020000
TZOFFSETFROM:-0400
TZOFFSETTO:-0500
RDATE:20211107T020000
END:STANDARD
BEGIN:DAYLIGHT
TZNAME:EDT
DTSTART:20200308T020000
TZOFFSETFROM:-0500
TZOFFSETTO:-0400
RDATE:20210314T020000
RDATE:20220313T020000
END:DAYLIGHT
END:VTIMEZONE
BEGIN:VEVENT
UID:6532a8b0-f9ef-4ee8-8f66-61ec7dddf016
DTSTAMP:20260420T143628Z
DESCRIPTION:
DTSTART;TZID=America/New_York:20201125T160000
DTEND;TZID=America/New_York:20201125T200000
LOCATION:
SUMMARY:NO STD/ HIV TESTING
END:VEVENT
END:VCALENDAR
