BEGIN:VCALENDAR
VERSION:2.0
PRODID:-//www.alderhealth.org//NONSGML kigkonsult.se iCalcreator 2.30.10//
CALSCALE:GREGORIAN
METHOD:PUBLISH
UID:ef63f02f-b8a0-4345-8c46-15fbbc3084fc
X-WR-CALDESC:
X-WR-RELCALID:fadc5a946f897eb23bdb5a7f6fab69de
X-WR-TIMEZONE:America/New_York
BEGIN:VTIMEZONE
TZID:America/New_York
BEGIN:STANDARD
TZNAME:EST
DTSTART:20201101T020000
TZOFFSETFROM:-0400
TZOFFSETTO:-0500
RDATE:20211107T020000
END:STANDARD
BEGIN:DAYLIGHT
TZNAME:EDT
DTSTART:20200308T020000
TZOFFSETFROM:-0500
TZOFFSETTO:-0400
RDATE:20210314T020000
RDATE:20220313T020000
END:DAYLIGHT
END:VTIMEZONE
BEGIN:VEVENT
UID:fc814a8c-f75f-4406-a791-c9c866143e10
DTSTAMP:20260420T160106Z
DESCRIPTION:
DTSTART;TZID=America/New_York:20201125T000000
DTEND;TZID=America/New_York:20201127T235900
LOCATION:
SUMMARY:Closed- Thanksgiving
END:VEVENT
END:VCALENDAR
