BEGIN:VCALENDAR
VERSION:2.0
PRODID:-//www.alderhealth.org//NONSGML kigkonsult.se iCalcreator 2.30.10//
CALSCALE:GREGORIAN
METHOD:PUBLISH
UID:4d73826a-6c41-462b-aae1-368206ebb835
X-WR-CALDESC:
X-WR-RELCALID:af2385932d9d9517d32e68a4bdb90a74
X-WR-TIMEZONE:America/New_York
BEGIN:VTIMEZONE
TZID:America/New_York
BEGIN:STANDARD
TZNAME:EST
DTSTART:20201101T020000
TZOFFSETFROM:-0400
TZOFFSETTO:-0500
RDATE:20211107T020000
END:STANDARD
BEGIN:DAYLIGHT
TZNAME:EDT
DTSTART:20200308T020000
TZOFFSETFROM:-0500
TZOFFSETTO:-0400
RDATE:20210314T020000
RDATE:20220313T020000
END:DAYLIGHT
END:VTIMEZONE
BEGIN:VEVENT
UID:60f97470-21ac-4fc3-bae0-8817087246a2
DTSTAMP:20260420T124528Z
DESCRIPTION:
DTSTART;TZID=America/New_York:20201216T160000
DTEND;TZID=America/New_York:20201216T200000
LOCATION:
SUMMARY:NO STD/HIV TESTING
END:VEVENT
END:VCALENDAR
