BEGIN:VCALENDAR
VERSION:2.0
PRODID:-//www.alderhealth.org//NONSGML kigkonsult.se iCalcreator 2.30.10//
CALSCALE:GREGORIAN
METHOD:PUBLISH
UID:b614fa05-1a17-4ddf-9405-097ccb17e80d
X-WR-CALDESC:
X-WR-RELCALID:df4b2ce4e870a23af28b90c941f76ee7
X-WR-TIMEZONE:America/New_York
BEGIN:VTIMEZONE
TZID:America/New_York
BEGIN:STANDARD
TZNAME:EST
DTSTART:20201101T020000
TZOFFSETFROM:-0400
TZOFFSETTO:-0500
RDATE:20211107T020000
END:STANDARD
BEGIN:DAYLIGHT
TZNAME:EDT
DTSTART:20200308T020000
TZOFFSETFROM:-0500
TZOFFSETTO:-0400
RDATE:20210314T020000
RDATE:20220313T020000
END:DAYLIGHT
END:VTIMEZONE
BEGIN:VEVENT
UID:78d0a1a8-681d-40c4-9323-ab5d63ce6a38
DTSTAMP:20260420T143748Z
DESCRIPTION:
DTSTART;TZID=America/New_York:20201224T000000
DTEND;TZID=America/New_York:20210101T235900
LOCATION:
SUMMARY:Closed- Holidays
END:VEVENT
END:VCALENDAR
