BEGIN:VCALENDAR
VERSION:2.0
PRODID:-//www.alderhealth.org//NONSGML kigkonsult.se iCalcreator 2.30.10//
CALSCALE:GREGORIAN
METHOD:PUBLISH
UID:599d6c76-f1ad-4da9-a3ff-1239e62978e6
X-WR-CALDESC:
X-WR-RELCALID:29e6e6b568415effc389990bd0fdee53
X-WR-TIMEZONE:America/New_York
BEGIN:VTIMEZONE
TZID:America/New_York
BEGIN:STANDARD
TZNAME:EST
DTSTART:20201101T020000
TZOFFSETFROM:-0400
TZOFFSETTO:-0500
RDATE:20211107T020000
END:STANDARD
BEGIN:DAYLIGHT
TZNAME:EDT
DTSTART:20200308T020000
TZOFFSETFROM:-0500
TZOFFSETTO:-0400
RDATE:20210314T020000
RDATE:20220313T020000
END:DAYLIGHT
END:VTIMEZONE
BEGIN:VEVENT
UID:6df764b3-b4f1-44ae-a7e9-030ec9b1cfe3
DTSTAMP:20260420T124328Z
DESCRIPTION:
DTSTART;TZID=America/New_York:20201230T160000
DTEND;TZID=America/New_York:20201230T200000
LOCATION:
SUMMARY:NO STD/HIV TESTING
END:VEVENT
END:VCALENDAR
