BEGIN:VCALENDAR
VERSION:2.0
PRODID:-//www.alderhealth.org//NONSGML kigkonsult.se iCalcreator 2.30.10//
CALSCALE:GREGORIAN
METHOD:PUBLISH
UID:d2b6da5a-0d70-4c46-83ea-3e04d24626fe
X-WR-CALDESC:Free walk-in HIV/STI Testing
X-WR-RELCALID:daa51c83480d93e3b78856490bd694d3
X-WR-TIMEZONE:America/New_York
BEGIN:VTIMEZONE
TZID:America/New_York
BEGIN:STANDARD
TZNAME:EST
DTSTART:20201101T020000
TZOFFSETFROM:-0400
TZOFFSETTO:-0500
RDATE:20211107T020000
RDATE:20221106T020000
END:STANDARD
BEGIN:DAYLIGHT
TZNAME:EDT
DTSTART:20210314T020000
TZOFFSETFROM:-0500
TZOFFSETTO:-0400
RDATE:20220313T020000
END:DAYLIGHT
END:VTIMEZONE
BEGIN:VEVENT
UID:9386f4e5-adfb-4ba1-ae6a-05e5963a1ca9
DTSTAMP:20260420T012658Z
DESCRIPTION:Free walk-in HIV/STI Testing
DTSTART;TZID=America/New_York:20210712T160000
DTEND;TZID=America/New_York:20210712T193000
LOCATION:100 North Cameron St\, Suite 201E\, 100 North Cameron St\, Suite 2
 01E\, Harrisburg\, PA 17101 US
SUMMARY:Free HIV/STI Testing
END:VEVENT
END:VCALENDAR
