BEGIN:VCALENDAR
VERSION:2.0
PRODID:-//www.alderhealth.org//NONSGML kigkonsult.se iCalcreator 2.30.10//
CALSCALE:GREGORIAN
METHOD:PUBLISH
UID:9db6ae0d-e103-41ce-8a99-1d1f766e5d5c
X-WR-CALDESC:Free walk-in HIV/STI Testing
X-WR-RELCALID:08fdd7760f42be08681810dcb8c1384f
X-WR-TIMEZONE:America/New_York
BEGIN:VTIMEZONE
TZID:America/New_York
BEGIN:STANDARD
TZNAME:EST
DTSTART:20201101T020000
TZOFFSETFROM:-0400
TZOFFSETTO:-0500
RDATE:20211107T020000
RDATE:20221106T020000
END:STANDARD
BEGIN:DAYLIGHT
TZNAME:EDT
DTSTART:20210314T020000
TZOFFSETFROM:-0500
TZOFFSETTO:-0400
RDATE:20220313T020000
END:DAYLIGHT
END:VTIMEZONE
BEGIN:VEVENT
UID:93d391a3-5529-4737-b06f-869af9341ff7
DTSTAMP:20260420T025728Z
DESCRIPTION:Free walk-in HIV/STI Testing
DTSTART;TZID=America/New_York:20210726T160000
DTEND;TZID=America/New_York:20210726T193000
LOCATION:100 North Cameron St\, Suite 201E\, 100 North Cameron St\, Suite 2
 01E\, Harrisburg\, PA 17101 US
SUMMARY:Free HIV/STI Testing
END:VEVENT
END:VCALENDAR
