BEGIN:VCALENDAR
VERSION:2.0
PRODID:-//www.alderhealth.org//NONSGML kigkonsult.se iCalcreator 2.30.10//
CALSCALE:GREGORIAN
METHOD:PUBLISH
UID:bd58f381-3591-4020-aa72-146ac8e9348f
X-WR-CALDESC:Free walk-in HIV/STI Testing
X-WR-RELCALID:479e667adc6240b1ea51f7486ee859bd
X-WR-TIMEZONE:America/New_York
BEGIN:VTIMEZONE
TZID:America/New_York
BEGIN:STANDARD
TZNAME:EST
DTSTART:20201101T020000
TZOFFSETFROM:-0400
TZOFFSETTO:-0500
RDATE:20211107T020000
RDATE:20221106T020000
END:STANDARD
BEGIN:DAYLIGHT
TZNAME:EDT
DTSTART:20210314T020000
TZOFFSETFROM:-0500
TZOFFSETTO:-0400
RDATE:20220313T020000
END:DAYLIGHT
END:VTIMEZONE
BEGIN:VEVENT
UID:faa45b65-93b6-4168-83e5-a737e2b39ede
DTSTAMP:20260420T012501Z
DESCRIPTION:Free walk-in HIV/STI Testing
DTSTART;TZID=America/New_York:20210728T160000
DTEND;TZID=America/New_York:20210728T193000
LOCATION:100 North Cameron St\, Suite 201E\, 100 North Cameron St\, Suite 2
 01E\, Harrisburg\, PA 17101 US
SUMMARY:Free HIV/STI Testing
END:VEVENT
END:VCALENDAR
