BEGIN:VCALENDAR
VERSION:2.0
PRODID:-//www.alderhealth.org//NONSGML kigkonsult.se iCalcreator 2.30.10//
CALSCALE:GREGORIAN
METHOD:PUBLISH
UID:266c6619-cc13-47d0-a39a-d34807469083
X-WR-CALDESC:Free walk-in HIV/STI Testing
X-WR-RELCALID:bdd1cdb77bb899a255751e9033bd7079
X-WR-TIMEZONE:America/New_York
BEGIN:VTIMEZONE
TZID:America/New_York
BEGIN:STANDARD
TZNAME:EST
DTSTART:20201101T020000
TZOFFSETFROM:-0400
TZOFFSETTO:-0500
RDATE:20211107T020000
RDATE:20221106T020000
END:STANDARD
BEGIN:DAYLIGHT
TZNAME:EDT
DTSTART:20210314T020000
TZOFFSETFROM:-0500
TZOFFSETTO:-0400
RDATE:20220313T020000
END:DAYLIGHT
END:VTIMEZONE
BEGIN:VEVENT
UID:09c22031-f1ac-4fa8-9a96-5ac0dd70e503
DTSTAMP:20260419T233807Z
DESCRIPTION:Free walk-in HIV/STI Testing
DTSTART;TZID=America/New_York:20210830T160000
DTEND;TZID=America/New_York:20210830T193000
LOCATION:100 North Cameron St\, Suite 201E\, 100 North Cameron St\, Suite 2
 01E\, Harrisburg\, PA 17101 US
SUMMARY:Free HIV/STI Testing
END:VEVENT
END:VCALENDAR
