BEGIN:VCALENDAR
VERSION:2.0
PRODID:-//www.alderhealth.org//NONSGML kigkonsult.se iCalcreator 2.30.10//
CALSCALE:GREGORIAN
METHOD:PUBLISH
UID:650d9ab3-5fcf-4748-bf73-b7c72efb0f13
X-WR-CALDESC:Free walk-in HIV/STI Testing
X-WR-RELCALID:ad04b31f43b37eeb03557f7d8ae26968
X-WR-TIMEZONE:America/New_York
BEGIN:VTIMEZONE
TZID:America/New_York
BEGIN:STANDARD
TZNAME:EST
DTSTART:20211107T020000
TZOFFSETFROM:-0400
TZOFFSETTO:-0500
RDATE:20221106T020000
END:STANDARD
BEGIN:DAYLIGHT
TZNAME:EDT
DTSTART:20210314T020000
TZOFFSETFROM:-0500
TZOFFSETTO:-0400
RDATE:20220313T020000
RDATE:20230312T020000
END:DAYLIGHT
END:VTIMEZONE
BEGIN:VEVENT
UID:18a7baf3-8560-4c6c-b530-dc3fb1502d5e
DTSTAMP:20260420T012606Z
DESCRIPTION:Free walk-in HIV/STI Testing
DTSTART;TZID=America/New_York:20211108T160000
DTEND;TZID=America/New_York:20211108T193000
LOCATION:100 North Cameron St\, Suite 201E\, 100 North Cameron St\, Suite 2
 01E\, Harrisburg\, PA 17101 US
SUMMARY:Free HIV/STI Testing
END:VEVENT
END:VCALENDAR
