BEGIN:VCALENDAR
VERSION:2.0
PRODID:-//www.alderhealth.org//NONSGML kigkonsult.se iCalcreator 2.30.10//
CALSCALE:GREGORIAN
METHOD:PUBLISH
UID:51f2f016-2c65-494e-bb70-5b7dcb39c861
X-WR-CALDESC:Did you know that airbending in Avatar: The Last Airbender is 
 based on the real Chinese internal martial arts style of baguazhang?  You 
 may have seen a fictional version of baguazhang (hakkeshou) in Naruto.  Jo
 in the workshop to learn the real version of baguazhang with single palm c
 hanges\, circle walking\, and mud walking.
X-WR-RELCALID:83da842c63717f7b47713b0db1f60e71
X-WR-TIMEZONE:America/New_York
BEGIN:VTIMEZONE
TZID:America/New_York
BEGIN:STANDARD
TZNAME:EST
DTSTART:20211107T020000
TZOFFSETFROM:-0400
TZOFFSETTO:-0500
RDATE:20221106T020000
RDATE:20231105T020000
END:STANDARD
BEGIN:DAYLIGHT
TZNAME:EDT
DTSTART:20220313T020000
TZOFFSETFROM:-0500
TZOFFSETTO:-0400
RDATE:20230312T020000
END:DAYLIGHT
END:VTIMEZONE
BEGIN:VEVENT
UID:074a7516-3b2c-4c61-9135-ec5e53a16817
DTSTAMP:20260423T050624Z
DESCRIPTION:Did you know that airbending in Avatar: The Last Airbender is b
 ased on the real Chinese internal martial arts style of baguazhang?  You m
 ay have seen a fictional version of baguazhang (hakkeshou) in Naruto.  Joi
 n the workshop to learn the real version of baguazhang with single palm ch
 anges\, circle walking\, and mud walking.
DTSTART;TZID=America/New_York:20220714T190000
DTEND;TZID=America/New_York:20220714T203000
LOCATION:100 North Cameron St\, Suite 201\, Harrisburg\, PA 17101 US
SUMMARY:Self Defense Intro to Airbending
END:VEVENT
END:VCALENDAR
