BEGIN:VCALENDAR
VERSION:2.0
PRODID:-//www.alderhealth.org//NONSGML kigkonsult.se iCalcreator 2.30.10//
CALSCALE:GREGORIAN
METHOD:PUBLISH
UID:b1bba45c-7dfe-45a8-97f3-54b4cab40cac
X-WR-CALDESC:Did you know that waterbending in Avatar: The Last Airbender i
 s based on the real Chinese internal martial arts style of taijiquan?  You
  may have seen some in the recent Marvel movie Shang-Chi as well.  Join th
 e workshop to learn the fluid movements of the first four energies of taij
 iquan.
X-WR-RELCALID:642cb6a67c5ebc3eba735943b486cb28
X-WR-TIMEZONE:America/New_York
BEGIN:VTIMEZONE
TZID:America/New_York
BEGIN:STANDARD
TZNAME:EST
DTSTART:20211107T020000
TZOFFSETFROM:-0400
TZOFFSETTO:-0500
RDATE:20221106T020000
RDATE:20231105T020000
END:STANDARD
BEGIN:DAYLIGHT
TZNAME:EDT
DTSTART:20220313T020000
TZOFFSETFROM:-0500
TZOFFSETTO:-0400
RDATE:20230312T020000
END:DAYLIGHT
END:VTIMEZONE
BEGIN:VEVENT
UID:0c615e17-da57-470e-9948-b3083a340225
DTSTAMP:20260423T051043Z
DESCRIPTION:Did you know that waterbending in Avatar: The Last Airbender is
  based on the real Chinese internal martial arts style of taijiquan?  You 
 may have seen some in the recent Marvel movie Shang-Chi as well.  Join the
  workshop to learn the fluid movements of the first four energies of taiji
 quan.
DTSTART;TZID=America/New_York:20220721T190000
DTEND;TZID=America/New_York:20220721T203000
LOCATION:100 North Cameron St\, Suite 201\, Harrisburg\, PA 17101 US
SUMMARY:Self Defense Intro to Waterbending
END:VEVENT
END:VCALENDAR
