BEGIN:VCALENDAR
VERSION:2.0
PRODID:-//www.alderhealth.org//NONSGML kigkonsult.se iCalcreator 2.30.10//
CALSCALE:GREGORIAN
METHOD:PUBLISH
UID:5a32547e-41ba-4036-95db-ac972187694b
X-WR-CALDESC:Join the workshop to learn some basics of sword use\, includin
 g transitioning between guards to cut and thrust. Masks are optional for t
 hose who are vaccinated.
X-WR-RELCALID:694643030ea762c08561a62d771d3661
X-WR-TIMEZONE:America/New_York
BEGIN:VTIMEZONE
TZID:America/New_York
BEGIN:STANDARD
TZNAME:EST
DTSTART:20211107T020000
TZOFFSETFROM:-0400
TZOFFSETTO:-0500
RDATE:20221106T020000
RDATE:20231105T020000
END:STANDARD
BEGIN:DAYLIGHT
TZNAME:EDT
DTSTART:20220313T020000
TZOFFSETFROM:-0500
TZOFFSETTO:-0400
RDATE:20230312T020000
END:DAYLIGHT
END:VTIMEZONE
BEGIN:VEVENT
UID:dcb553a4-b457-45a4-bf64-58e731e10c09
DTSTAMP:20260423T051135Z
DESCRIPTION:Join the workshop to learn some basics of sword use\, including
  transitioning between guards to cut and thrust. Masks are optional for th
 ose who are vaccinated.
DTSTART;TZID=America/New_York:20220728T190000
DTEND;TZID=America/New_York:20220728T203000
LOCATION:100 North Cameron St\, Suite 201\, Harrisburg\, PA 17101 US
SUMMARY:Self Defense Intro to Swordplay
END:VEVENT
END:VCALENDAR
