BEGIN:VCALENDAR
VERSION:2.0
PRODID:-//www.alderhealth.org//NONSGML kigkonsult.se iCalcreator 2.30.10//
CALSCALE:GREGORIAN
METHOD:PUBLISH
UID:555d0ec7-938f-4357-90c5-101a94732691
X-WR-CALDESC:Join the workshop to learn some basics of stick and knife figh
 ting and how it applies to bare hands. Masks are optional for those who ar
 e vaccinated. \n
X-WR-RELCALID:132000a4ac1e0da1bfc2f62378b21c8d
X-WR-TIMEZONE:America/New_York
BEGIN:VTIMEZONE
TZID:America/New_York
BEGIN:STANDARD
TZNAME:EST
DTSTART:20211107T020000
TZOFFSETFROM:-0400
TZOFFSETTO:-0500
RDATE:20221106T020000
RDATE:20231105T020000
END:STANDARD
BEGIN:DAYLIGHT
TZNAME:EDT
DTSTART:20220313T020000
TZOFFSETFROM:-0500
TZOFFSETTO:-0400
RDATE:20230312T020000
END:DAYLIGHT
END:VTIMEZONE
BEGIN:VEVENT
UID:f86ed9b5-4924-4eeb-8651-b62f89995a3c
DTSTAMP:20260423T065328Z
DESCRIPTION:Join the workshop to learn some basics of stick and knife fight
 ing and how it applies to bare hands. Masks are optional for those who are
  vaccinated. \n
DTSTART;TZID=America/New_York:20220804T190000
DTEND;TZID=America/New_York:20220804T203000
LOCATION:100 North Cameron St\, Suite 201\, Harrisburg\, PA 17101 US
SUMMARY:Self Defense Intro to Arnis
END:VEVENT
END:VCALENDAR
