BEGIN:VCALENDAR
VERSION:2.0
PRODID:-//www.alderhealth.org//NONSGML kigkonsult.se iCalcreator 2.30.10//
CALSCALE:GREGORIAN
METHOD:PUBLISH
UID:32865676-07ef-4303-9839-4127a8a938d3
X-WR-CALDESC:
X-WR-RELCALID:5caf62410cb3639bfe1b64c5ee944dda
X-WR-TIMEZONE:America/New_York
BEGIN:VTIMEZONE
TZID:America/New_York
BEGIN:STANDARD
TZNAME:EST
DTSTART:20211107T020000
TZOFFSETFROM:-0400
TZOFFSETTO:-0500
RDATE:20221106T020000
RDATE:20231105T020000
END:STANDARD
BEGIN:DAYLIGHT
TZNAME:EDT
DTSTART:20220313T020000
TZOFFSETFROM:-0500
TZOFFSETTO:-0400
RDATE:20230312T020000
END:DAYLIGHT
END:VTIMEZONE
BEGIN:VEVENT
UID:0d5b3c7c-1093-4e69-b732-ccf4c4858871
DTSTAMP:20260423T083102Z
DESCRIPTION:
DTSTART;TZID=America/New_York:20220829T113000
DTEND;TZID=America/New_York:20220829T123000
LOCATION:
SUMMARY:Drag Show
END:VEVENT
END:VCALENDAR
