BEGIN:VCALENDAR
VERSION:2.0
PRODID:-//www.alderhealth.org//NONSGML kigkonsult.se iCalcreator 2.30.10//
CALSCALE:GREGORIAN
METHOD:PUBLISH
UID:ef38e4d5-4f80-40fd-bbc5-2567239c2d0f
X-WR-CALDESC:
X-WR-RELCALID:369e57e0518db367b83513d14ae37f14
X-WR-TIMEZONE:America/New_York
BEGIN:VTIMEZONE
TZID:America/New_York
BEGIN:STANDARD
TZNAME:EST
DTSTART:20221106T020000
TZOFFSETFROM:-0400
TZOFFSETTO:-0500
RDATE:20231105T020000
END:STANDARD
BEGIN:DAYLIGHT
TZNAME:EDT
DTSTART:20220313T020000
TZOFFSETFROM:-0500
TZOFFSETTO:-0400
RDATE:20230312T020000
RDATE:20240310T020000
END:DAYLIGHT
END:VTIMEZONE
BEGIN:VEVENT
UID:fa22dddd-9738-48a7-b06e-6d34000423e2
DTSTAMP:20260421T041518Z
DESCRIPTION:
DTSTART;TZID=America/New_York:20221202T180000
DTEND;TZID=America/New_York:20221202T220000
LOCATION:
SUMMARY:Rubies and Roses 2022
END:VEVENT
END:VCALENDAR
