BEGIN:VCALENDAR
VERSION:2.0
PRODID:-//www.alderhealth.org//NONSGML kigkonsult.se iCalcreator 2.30.10//
CALSCALE:GREGORIAN
METHOD:PUBLISH
UID:67af47cb-01a0-4040-9b00-f1c6930cb9b8
X-WR-CALDESC:Join us!\n\n'Stay safe and build your character! Join us for s
 elf-defense classes at 7:30 PM in the Wellness Center at Alder Health Serv
 ices. Learn valuable skills while gaining self-confidence\, self-worth\, a
 nd self-respect. Don't miss out on this unique opportunity today!
X-WR-RELCALID:ad22e73735b7b7f2a15000658b4478b9
X-WR-TIMEZONE:America/New_York
BEGIN:VTIMEZONE
TZID:America/New_York
BEGIN:STANDARD
TZNAME:EST
DTSTART:20221106T020000
TZOFFSETFROM:-0400
TZOFFSETTO:-0500
RDATE:20231105T020000
RDATE:20241103T020000
END:STANDARD
BEGIN:DAYLIGHT
TZNAME:EDT
DTSTART:20230312T020000
TZOFFSETFROM:-0500
TZOFFSETTO:-0400
RDATE:20240310T020000
END:DAYLIGHT
END:VTIMEZONE
BEGIN:VEVENT
UID:529d1c88-788b-4f68-8943-f2ec8125c90f
DTSTAMP:20260420T160355Z
DESCRIPTION:Join us!\n\n'Stay safe and build your character! Join us for se
 lf-defense classes at 7:30 PM in the Wellness Center at Alder Health Servi
 ces. Learn valuable skills while gaining self-confidence\, self-worth\, an
 d self-respect. Don't miss out on this unique opportunity today!
DTSTART;TZID=America/New_York:20230817T193000
DTEND;TZID=America/New_York:20230817T203000
LOCATION:100 N. Cameron St\, Harrisburg\, PA 17101 US
SUMMARY:Self-Defense
END:VEVENT
END:VCALENDAR
